BEGIN:VCALENDAR
VERSION:2.0
PRODID:-//Tukios.com/
BEGIN:VEVENT
UID:d115966d-1d76-432f-8b3e-73e350f1e196@www.neunfuneralhomes.com
DTSTAMP:20260422T023031Z
DTSTART:20260508T170000Z
DTEND:20260508T190000Z
SUMMARY:Visitation
DESCRIPTION:
URL:https://www.neunfuneralhomes.com/obituaries/william-benwell
LOCATION:Paquette-Neun Funeral Home 104 Park Street  Northfield NH 03276
GEO:43.436787;-71.5922386
END:VEVENT
END:VCALENDAR