BEGIN:VCALENDAR
VERSION:2.0
PRODID:-//Tukios.com/
BEGIN:VEVENT
UID:d3190057-a3e7-4a68-93c2-1260d70b0b6b@www.neunfuneralhomes.com
DTSTAMP:20260421T232418Z
DTSTART:20260424T140000Z
DTEND:20260424T150000Z
SUMMARY:Visitation
DESCRIPTION:
URL:https://www.neunfuneralhomes.com/obituaries/linda-kimball
LOCATION:     
GEO:0;0
END:VEVENT
END:VCALENDAR