BEGIN:VCALENDAR
VERSION:2.0
PRODID:-//Tukios.com/
BEGIN:VEVENT
UID:b17161da-6690-471f-aa7c-30c66c784af1@www.neunfuneralhomes.com
DTSTAMP:20260421T232039Z
DTSTART:20260424T150000Z
DTEND:20260424T160000Z
SUMMARY:Funeral Service
DESCRIPTION:
URL:https://www.neunfuneralhomes.com/obituaries/linda-kimball
LOCATION:     
GEO:0;0
END:VEVENT
END:VCALENDAR