BEGIN:VCALENDAR
VERSION:2.0
PRODID:-//Tukios.com/
BEGIN:VEVENT
UID:dd485d7e-ba08-43be-92b0-572c5766bd71@www.neunfuneralhomes.com
DTSTAMP:20260422T180401Z
DTSTART:20260504T140000Z
DTEND:20260504T150000Z
SUMMARY:Mass
DESCRIPTION:
URL:https://www.neunfuneralhomes.com/obituaries/aileen-kulacz
LOCATION:     
GEO:0;0
END:VEVENT
END:VCALENDAR