BEGIN:VCALENDAR
VERSION:2.0
PRODID:-//Tukios.com/
BEGIN:VEVENT
UID:c8bbe016-21a1-4bb7-81be-914a88cee407@www.neunfuneralhomes.com
DTSTAMP:20260422T180008Z
DTSTART:20260504T150000Z
DTEND:20260504T153000Z
SUMMARY:Graveside Service
DESCRIPTION:
URL:https://www.neunfuneralhomes.com/obituaries/aileen-kulacz
LOCATION:     
GEO:0;0
END:VEVENT
END:VCALENDAR